BEGIN:VCALENDAR
VERSION:2.0
PRODID:-//ACK PROMOTE - ECPv6.3.6//NONSGML v1.0//EN
CALSCALE:GREGORIAN
METHOD:PUBLISH
X-WR-CALNAME:ACK PROMOTE
X-ORIGINAL-URL:https://ackpromote.com
X-WR-CALDESC:Eventos para ACK PROMOTE
REFRESH-INTERVAL;VALUE=DURATION:PT1H
X-Robots-Tag:noindex
X-PUBLISHED-TTL:PT1H
BEGIN:VTIMEZONE
TZID:UTC
BEGIN:STANDARD
TZOFFSETFROM:+0000
TZOFFSETTO:+0000
TZNAME:UTC
DTSTART:20250101T000000
END:STANDARD
END:VTIMEZONE
BEGIN:VEVENT
DTSTART;TZID=UTC:20251018T210000
DTEND;TZID=UTC:20251018T233000
DTSTAMP:20260422T133746
CREATED:20250407T205949Z
LAST-MODIFIED:20250704T213700Z
UID:2055-1760821200-1760830200@ackpromote.com
SUMMARY:Lagwagon en Gdl
DESCRIPTION:Lagwagon en Gdl. 18 de Octubre\, en C3 Stage
URL:https://ackpromote.com/eventos/lagwagon-en-gdl/
LOCATION:C3 Stage\, Av. Ignacio L. Vallarta 1488\, Col. Americana\, Lafayette\, Guadalajara\, Jal.\, México\, 44160\, Mexico
ATTACH;FMTTYPE=image/png:https://ackpromote.com/wp-content/uploads/2025/04/GDL-CUADRADO-7-1.png
END:VEVENT
END:VCALENDAR